BEGIN:VCALENDAR
VERSION:2.0
PRODID:-//Yorkshire Business Life - ECPv6.15.14//NONSGML v1.0//EN
CALSCALE:GREGORIAN
METHOD:PUBLISH
X-WR-CALNAME:Yorkshire Business Life
X-ORIGINAL-URL:https://yorkshirebusinesslife.co.uk
X-WR-CALDESC:Events for Yorkshire Business Life
REFRESH-INTERVAL;VALUE=DURATION:PT1H
X-Robots-Tag:noindex
X-PUBLISHED-TTL:PT1H
BEGIN:VTIMEZONE
TZID:Europe/London
BEGIN:DAYLIGHT
TZOFFSETFROM:+0000
TZOFFSETTO:+0100
TZNAME:BST
DTSTART:20240331T010000
END:DAYLIGHT
BEGIN:STANDARD
TZOFFSETFROM:+0100
TZOFFSETTO:+0000
TZNAME:GMT
DTSTART:20241027T010000
END:STANDARD
BEGIN:DAYLIGHT
TZOFFSETFROM:+0000
TZOFFSETTO:+0100
TZNAME:BST
DTSTART:20250330T010000
END:DAYLIGHT
BEGIN:STANDARD
TZOFFSETFROM:+0100
TZOFFSETTO:+0000
TZNAME:GMT
DTSTART:20251026T010000
END:STANDARD
BEGIN:DAYLIGHT
TZOFFSETFROM:+0000
TZOFFSETTO:+0100
TZNAME:BST
DTSTART:20260329T010000
END:DAYLIGHT
BEGIN:STANDARD
TZOFFSETFROM:+0100
TZOFFSETTO:+0000
TZNAME:GMT
DTSTART:20261025T010000
END:STANDARD
END:VTIMEZONE
BEGIN:VTIMEZONE
TZID:UTC
BEGIN:STANDARD
TZOFFSETFROM:+0000
TZOFFSETTO:+0000
TZNAME:UTC
DTSTART:20240101T000000
END:STANDARD
END:VTIMEZONE
BEGIN:VEVENT
DTSTART;TZID=Europe/London:20250918T083000
DTEND;TZID=Europe/London:20250918T103000
DTSTAMP:20260420T004745
CREATED:20250825T183958Z
LAST-MODIFIED:20250917T140126Z
UID:57569-1758184200-1758191400@yorkshirebusinesslife.co.uk
SUMMARY:YNY Networking - Sherburn in Elmet
DESCRIPTION:Join us at YNY Networking –  Sherburn in Elmet for networking and connecting with like-minded individuals in your area!\n\n\nWelcome to Network YNY – Sherburn in Elmet \nJoin us for networking\, learning\, and connecting with like-minded professionals. This free to attend in-person event will be held at Digby’s Cafe at Sherburn Aero Club in Sherburn in Elmet. Providing a great opportunity to meet new people and expand your professional circle. \nThis event was originally Elmet and Selby forum which we have been honoured to take over.  \nOn arrival please order yourself a hot drink and breakfast and join us in the meeting room.  \nDon’t miss out on this chance to grow your network and gain valuable insights. See you there!
URL:https://yorkshirebusinesslife.co.uk/event/yny-networking-sherburn-in-elmet
LOCATION:Digbys Cafe Diner\, New Lennerton Lane\, Sherburn in Elmet\, England\, LS25 6JE\, United Kingdom
ATTACH;FMTTYPE=image/jpeg:https://yorkshirebusinesslife.co.uk/wp-content/uploads/2025/08/0b3b833b61123c33ea3395581ca5e9ea.jpg
END:VEVENT
BEGIN:VEVENT
DTSTART;TZID=Europe/London:20250912T180000
DTEND;TZID=Europe/London:20250912T200000
DTSTAMP:20260420T004745
CREATED:20250825T191939Z
LAST-MODIFIED:20250911T212405Z
UID:57607-1757700000-1757707200@yorkshirebusinesslife.co.uk
SUMMARY:You are invited :An evening of connection at Jo Malone London in York.
DESCRIPTION:Join Katie from YorWealth and Claire from Ebor Mortgages for a luxurious networking evening at the elegant Jo Malone London store\, York\n\n\nJoin Katie from Yorwealth and Claire from Ebor Mortgages for a luxurious networking evening at the elegant Jo Malone London store at 51 Stonegate in York on Friday 12th September from 6-8pm \n \nEnjoy a glass of Fizz on arrival\, unwind with a relaxing hand and arm massage\, and explore the signature scents of Jo Malone London- all whilst connecting with likeminded professionals in a warm and welcoming setting. \n \n£15 per ticket and receive a £25 gift card ( can be redeemed on the evening only\, one per customer\, one per transaction) \nPlus\, every guest will receive a scented surprise to take away with them as a special thankyou for joining us. \n \nSpaces are limited – book now to secure your place.
URL:https://yorkshirebusinesslife.co.uk/event/you-are-invited-an-evening-of-connection-at-jo-malone-london-in-york
LOCATION:Jo Malone London\, 49-51 Stonegate\, York\, England\, YO1 8AW\, United Kingdom
ATTACH;FMTTYPE=image/jpeg:https://yorkshirebusinesslife.co.uk/wp-content/uploads/2025/08/263803867f43e36a8c8f4502ded8a581.jpg
END:VEVENT
BEGIN:VEVENT
DTSTART;TZID=Europe/London:20250911T090000
DTEND;TZID=Europe/London:20250911T103000
DTSTAMP:20260420T004745
CREATED:20250825T183956Z
LAST-MODIFIED:20250910T231514Z
UID:57563-1757581200-1757586600@yorkshirebusinesslife.co.uk
SUMMARY:YNY Networking - Malton
DESCRIPTION:Welcome to our first Business Networking event in Malton! Connecting local businesses\, sole traders and the council to work in collaboration\n\n\nWelcome to York and North Yorkshire Networking\, in Malton! This event in is collaboration with McClarrons Insurance Brokers 🌟We invite businesses of all sizes to join our relaxed and engaging networking events. Our mission is to foster connections between all local businesses along with the local council\, creating a supportive community where everyone can thrive.🤝 \nWhy Join Us? \nInclusive Networking: Whether you’re a startup\, SME\, or large enterprise\, our events are designed to be welcoming and beneficial for all.Community Support: Collaborate with local businesses and the council to share resources\, insights\, and opportunities.Relaxed Atmosphere: Our events are casual and friendly\, making it easy to build genuine relationships.Join us and be part of a vibrant network that supports growth\, innovation\, and community spirit in York and North Yorkshire.
URL:https://yorkshirebusinesslife.co.uk/event/yny-networking-malton
LOCATION:McClarrons\, York Road\, #Unit 1\, Malton\, England\, YO17 6TB\, United Kingdom
ATTACH;FMTTYPE=image/jpeg:https://yorkshirebusinesslife.co.uk/wp-content/uploads/2025/08/5d798def89ab2ee671402ff1adf22eee.jpg
END:VEVENT
BEGIN:VEVENT
DTSTART;TZID=Europe/London:20250910T074500
DTEND;TZID=Europe/London:20250910T090000
DTSTAMP:20260420T004745
CREATED:20250825T191938Z
LAST-MODIFIED:20250909T212648Z
UID:57604-1757490300-1757494800@yorkshirebusinesslife.co.uk
SUMMARY:YorWealth Breakfast Briefing
DESCRIPTION:Join YorWealth\, RH Mortgages & SJP Law for a financial update at our breakfast briefing. Coffee & breakfast sandwich included.\n\n\nJoin us to hear from our all-female panel of expert speakers. \nWe’re delighted to be joined by Roxy and Hannah from RH Mortgages and Financial Solutions\, and Monika Bone from SJP Law. \nKatie & Beth from YorWealth will give a market outlook for the rest of 2025 and explore the topic of investment risk. \nRoxy and Hannah will present “Confidence starts with Clarity” – helping you take control so your dream home doesn’t slip away. \nMonika will talk through “Diamonds are forever…but what about my crypto?” covering digital assets on death and what this means for modern succession planning.
URL:https://yorkshirebusinesslife.co.uk/event/yorwealth-breakfast-briefing
LOCATION:Novotel York Centre\, Fishergate\, York\, England\, YO10 4FD\, United Kingdom
ATTACH;FMTTYPE=image/jpeg:https://yorkshirebusinesslife.co.uk/wp-content/uploads/2025/08/55224fdf01b910fcb45d6c095a0d2c98.jpg
END:VEVENT
BEGIN:VEVENT
DTSTART;TZID=Europe/London:20250904T090000
DTEND;TZID=Europe/London:20250904T103000
DTSTAMP:20260420T004745
CREATED:20250825T183955Z
LAST-MODIFIED:20250903T221313Z
UID:57556-1756976400-1756981800@yorkshirebusinesslife.co.uk
SUMMARY:YNY Networking - Northallerton
DESCRIPTION:Join us at YNY Networking – Northallerton for networking and connecting with like-minded individuals in your area!\n\n\nWelcome to Network YNY – Northallerton \nJoin us for networking\, learning\, and connecting with like-minded professionals. This free to attend in-person event will be held at the Business North Yorkshire Hub Northallerton (BNY Northallerton). The site is conveniently located at Treadmills\, Northallerton. Please note parking directly outside of the building is restricted to 90 minutes. Crosby Road Car Park (DL6 1EP) is a Pay and Display car park a short walk away. Providing a great opportunity to meet new people and expand your professional circle. \nAt our next event we will be hearing from Katriina Makinen\, founder of Makinen Unlimited “The Big Generational Mindset Shift: Decoding Gen Z at work” \nDon’t miss out on this chance to grow your network and gain valuable insights. See you there!
URL:https://yorkshirebusinesslife.co.uk/event/yny-networking-northallerton
LOCATION:BNY Hub Northallerton (Ex C4Di Site)\, Treadmills\, Crosby Road\, Northallerton\, England\, DL6 1AU\, United Kingdom
ATTACH;FMTTYPE=image/jpeg:https://yorkshirebusinesslife.co.uk/wp-content/uploads/2025/08/30f3dd494f3bac9bd766d9c3318267e8.jpg
END:VEVENT
BEGIN:VEVENT
DTSTART;TZID=UTC:20250718T110000
DTEND;TZID=UTC:20250718T110000
DTSTAMP:20260420T004745
CREATED:20250825T175341Z
LAST-MODIFIED:20250825T175341Z
UID:57550-1752836400-1752836400@yorkshirebusinesslife.co.uk
SUMMARY:Walk & Talk Business Networking - Richmond\, North Yorkshire
DESCRIPTION:
URL:https://yorkshirebusinesslife.co.uk/event/walk-talk-business-networking-richmond-north-yorkshire
LOCATION:England
END:VEVENT
END:VCALENDAR