BEGIN:VCALENDAR
VERSION:2.0
PRODID:-//Yorkshire Business Life - ECPv6.15.14//NONSGML v1.0//EN
CALSCALE:GREGORIAN
METHOD:PUBLISH
X-WR-CALNAME:Yorkshire Business Life
X-ORIGINAL-URL:https://yorkshirebusinesslife.co.uk
X-WR-CALDESC:Events for Yorkshire Business Life
REFRESH-INTERVAL;VALUE=DURATION:PT1H
X-Robots-Tag:noindex
X-PUBLISHED-TTL:PT1H
BEGIN:VTIMEZONE
TZID:UTC
BEGIN:STANDARD
TZOFFSETFROM:+0000
TZOFFSETTO:+0000
TZNAME:UTC
DTSTART:20240101T000000
END:STANDARD
END:VTIMEZONE
BEGIN:VEVENT
DTSTART;TZID=UTC:20250718T110000
DTEND;TZID=UTC:20250718T110000
DTSTAMP:20260419T231130
CREATED:20250825T175341Z
LAST-MODIFIED:20250825T175341Z
UID:57550-1752836400-1752836400@yorkshirebusinesslife.co.uk
SUMMARY:Walk & Talk Business Networking - Richmond\, North Yorkshire
DESCRIPTION:
URL:https://yorkshirebusinesslife.co.uk/event/walk-talk-business-networking-richmond-north-yorkshire
LOCATION:England
END:VEVENT
END:VCALENDAR