BEGIN:VCALENDAR
VERSION:2.0
PRODID:-//Yorkshire Business Life - ECPv6.15.14//NONSGML v1.0//EN
CALSCALE:GREGORIAN
METHOD:PUBLISH
X-WR-CALNAME:Yorkshire Business Life
X-ORIGINAL-URL:https://yorkshirebusinesslife.co.uk
X-WR-CALDESC:Events for Yorkshire Business Life
REFRESH-INTERVAL;VALUE=DURATION:PT1H
X-Robots-Tag:noindex
X-PUBLISHED-TTL:PT1H
BEGIN:VTIMEZONE
TZID:Europe/London
BEGIN:DAYLIGHT
TZOFFSETFROM:+0000
TZOFFSETTO:+0100
TZNAME:BST
DTSTART:20240331T010000
END:DAYLIGHT
BEGIN:STANDARD
TZOFFSETFROM:+0100
TZOFFSETTO:+0000
TZNAME:GMT
DTSTART:20241027T010000
END:STANDARD
BEGIN:DAYLIGHT
TZOFFSETFROM:+0000
TZOFFSETTO:+0100
TZNAME:BST
DTSTART:20250330T010000
END:DAYLIGHT
BEGIN:STANDARD
TZOFFSETFROM:+0100
TZOFFSETTO:+0000
TZNAME:GMT
DTSTART:20251026T010000
END:STANDARD
BEGIN:DAYLIGHT
TZOFFSETFROM:+0000
TZOFFSETTO:+0100
TZNAME:BST
DTSTART:20260329T010000
END:DAYLIGHT
BEGIN:STANDARD
TZOFFSETFROM:+0100
TZOFFSETTO:+0000
TZNAME:GMT
DTSTART:20261025T010000
END:STANDARD
END:VTIMEZONE
BEGIN:VEVENT
DTSTART;TZID=Europe/London:20251002T090000
DTEND;TZID=Europe/London:20251002T103000
DTSTAMP:20260419T230248
CREATED:20250913T233300Z
LAST-MODIFIED:20251001T193117Z
UID:57912-1759395600-1759401000@yorkshirebusinesslife.co.uk
SUMMARY:YNY Networking - Northallerton
DESCRIPTION:Join us at Network YNY – Northallerton for networking and connecting with like-minded individuals in your area!\n\n\nWelcome to Network YNY – Northallerton \nJoin us for networking\, learning\, and connecting with like-minded professionals. This free to attend in-person event will be held at the Evolution Business Centre\, every 4 weeks\, providing a great opportunity to meet new people and expand your professional circle. Don’t miss out on this chance to grow your network and gain valuable insights. See you there!
URL:https://yorkshirebusinesslife.co.uk/event/yny-networking-northallerton-2
LOCATION:Evolution Business Centre\, Evolution Business Centre\, #6\, Northallerton\, England\, DL6 2NQ\, United Kingdom
ATTACH;FMTTYPE=image/jpeg:https://yorkshirebusinesslife.co.uk/wp-content/uploads/2025/09/47f63ed5a03df639523fea0fde5b9eee-1.jpg
END:VEVENT
BEGIN:VEVENT
DTSTART;TZID=Europe/London:20251009T090000
DTEND;TZID=Europe/London:20251009T103000
DTSTAMP:20260419T230248
CREATED:20250825T184004Z
LAST-MODIFIED:20251008T212359Z
UID:57581-1760000400-1760005800@yorkshirebusinesslife.co.uk
SUMMARY:YNY Networking - Malton
DESCRIPTION:Meeting every 4 weeks\, connecting local businesses\, sole traders\, local authorities and business support providers to work in collaboration.\n\n\nWelcome to York and North Yorkshire Networking\, in Malton! 🌟 \nWe invite businesses of all sizes to join our relaxed and engaging networking events. Our mission is to foster connections between all local businesses\, local authorities and business support providers\, creating a supportive community where everyone can thrive. \n🤝 Why Join Us? Inclusive Networking: Whether you’re a startup\, SME\, or large enterprise\, our events are designed to be welcoming and beneficial for all. Community Support: Meet with like minded local businesses\, chat with local authorities and business support providers\, share resources\, insights\, and opportunities.Relaxed Atmosphere: Our events are casual and friendly\, making it easy to build genuine relationships. \nJoin us and be part of a vibrant network that supports growth\, innovation\, and community spirit in York and North Yorkshire.
URL:https://yorkshirebusinesslife.co.uk/event/yny-networking-malton-3-2
LOCATION:McClarrons\, York Road\, #Unit 1\, Malton\, England\, YO17 6TB\, United Kingdom
ATTACH;FMTTYPE=image/jpeg:https://yorkshirebusinesslife.co.uk/wp-content/uploads/2025/08/c0cd8da04e33e228de7291a24d20ee66-1.jpg
END:VEVENT
BEGIN:VEVENT
DTSTART;TZID=Europe/London:20251010T110000
DTEND;TZID=Europe/London:20251010T130000
DTSTAMP:20260419T230248
CREATED:20250914T233938Z
LAST-MODIFIED:20251008T212359Z
UID:57938-1760094000-1760101200@yorkshirebusinesslife.co.uk
SUMMARY:Walk & Talk Networking (Richmond - North Yorks)
DESCRIPTION:Join us for relaxed business networking\, a casual walk and beautiful views of Richmond.\n\n\nWalk & Talk Business Networking – Richmond\, North Yorkshire \nJoin us for a refreshing business networking event starting  at The Station in Richmond. Take a break from the traditional office setting and connect with fellow professionals in a relaxed outdoor environment. This is a great opportunity to network\, share ideas\, and build valuable relationships while enjoying a leisurely walk around the beautiful surroundings of Richmond. Don’t miss out on this chance to combine exercise with business networking. \nUseful Information \nhttps://www.thestation.co.uk \nThe Station – Richmond – North Yorkshire \nThe Station is a vibrant creative space; a cinema\, a café\, a gallery\, and a place to shop\, in Richmond\, North Yorkshire\, gateway to the Yorkshire Dales. The Station is a community hub where people can get together and create memories; a place where film\, food and art are enjoyed in the unique setting of Richmond’s lovingly re-imagined station buildings. A place to catch up over coffee; see an exhibition; watch a film; try new things; shop for local produce and gifts; or share a meal with family and friends. \nEvent Organisers / Sponsors \nYNY Network – York & North Yorkshire Networking Organisation \nPurple Creative – Digital Agency – Talented Creatives\, Marketers & Developers. \nBusiness.Life.Style – Business Advice & Consultancy. \nAgenda \n11.00am – Meeting by the Parking Meter in The Station Carpark. \n11.10am – Check eveyone has arrived and start the walk. \nThe walk starts along the Richmond riverside below the castle and then up onto castle walk. We then continue through the historic town centre before heading onto the easby loop and back to the station carpark. The walk is approx 5km. \n12.30 – 12.45pm – Arrive back at The Station. \nWe will be able to carry on chatting\, have a look around the Station or grab some food or refreshments. \nParking is £2.00 for two hours but if you would like to join us for further networking and refreshments at the Station we recommend that you pay £3.00 for up to 4 hours. \nParking is by Cash or Card by using the Parking machine on site – It would make sense to arrive 10 minutes early to make sure you can get your ticket as there may be a queue. \nDisclaimer: Please note that you walk at your own risk. Further information on the Easy Loop can be found HERE
URL:https://yorkshirebusinesslife.co.uk/event/walk-talk-networking-richmond-north-yorks
LOCATION:The Station\, Station Yard\, Richmond\, England\, DL10 4LD\, United Kingdom
ATTACH;FMTTYPE=image/jpeg:https://yorkshirebusinesslife.co.uk/wp-content/uploads/2025/09/58cfa2ecd6cf7d35c68d1ce99e4f0db8.jpg
END:VEVENT
BEGIN:VEVENT
DTSTART;TZID=Europe/London:20251016T083000
DTEND;TZID=Europe/London:20251016T103000
DTSTAMP:20260419T230248
CREATED:20250913T233303Z
LAST-MODIFIED:20251008T212359Z
UID:57917-1760603400-1760610600@yorkshirebusinesslife.co.uk
SUMMARY:YNY Networking - Sherburn in Elmet
DESCRIPTION:Join us at YNY Networking –  Sherburn in Elmet for networking and connecting with like-minded individuals in your area!\n\n\nWelcome to YNY Networking – Sherburn in Elmet \nJoin us for networking\, learning\, and connecting with like-minded professionals. This free to attend in-person event will be held at Digby’s Cafe at Sherburn Aero Club in Sherburn in Elmet. Providing a great opportunity to meet new people\, expand your professional circle and hear about support oppotunities available across the YNY Region via our local authorities and business support providers. \n \nOn arrival drinks and breakfast can be purchased from the counter\, and then come and join us in the meeting room. \nDon’t miss out on this chance to grow your network and gain valuable insights. See you there! \n(This event was originally Elmet and Selby forum)
URL:https://yorkshirebusinesslife.co.uk/event/yny-networking-sherburn-in-elmet-3
LOCATION:Digbys Cafe Diner\, New Lennerton Lane\, Sherburn in Elmet\, England\, LS25 6JE\, United Kingdom
ATTACH;FMTTYPE=image/jpeg:https://yorkshirebusinesslife.co.uk/wp-content/uploads/2025/08/0b3b833b61123c33ea3395581ca5e9ea.jpg
END:VEVENT
BEGIN:VEVENT
DTSTART;TZID=Europe/London:20251022T090000
DTEND;TZID=Europe/London:20251022T103000
DTSTAMP:20260419T230248
CREATED:20250907T211813Z
LAST-MODIFIED:20251009T035427Z
UID:57885-1761123600-1761129000@yorkshirebusinesslife.co.uk
SUMMARY:YorWalk (York Race Course)
DESCRIPTION:Join us for our next YorWalk. Bring the dogs and enjoy a walk\, talk and some cake\n\n\nJoin us at the York Knavesmire Loop at 9am\, for a leisurely walk around the course\, followed by a coffee and cake at The Old Liquor Store. \nWe would love to see as many dogs as possible…
URL:https://yorkshirebusinesslife.co.uk/event/yorwalk-york-race-course
LOCATION:York Racecourse\, York Knavesmire Loop\, York\, England\, YO23 1EX\, United Kingdom
ATTACH;FMTTYPE=image/jpeg:https://yorkshirebusinesslife.co.uk/wp-content/uploads/2025/09/5ac6e6835f3b410a1dcf8255213c9b3a.jpg
END:VEVENT
BEGIN:VEVENT
DTSTART;TZID=Europe/London:20251023T110000
DTEND;TZID=Europe/London:20251023T130000
DTSTAMP:20260419T230248
CREATED:20250913T233303Z
LAST-MODIFIED:20251008T212359Z
UID:57921-1761217200-1761224400@yorkshirebusinesslife.co.uk
SUMMARY:Walk & Talk Networking (Sutton Bank - Thirsk)
DESCRIPTION:Join us for relaxed business networking\, a casual walk and beautiful views of the North Yorkshire countryside.\n\n\nWalk & Talk Networking is a professional networking event that combines business discussions with physical activity. Designed for small business owners and professionals\, the event fosters meaningful connections while discussing our business challenges and goals. \nWe will meet at Sutton Bank National Park Vistors Centre\, (Outside The Truffled Hogg). We will enjoy a 5.3km White Horse Walk for approx 1.5 hrs. After the walk\, feel free to join us for some lunch at the Truffled Hogg. The event is free you just need to pay for parking when you arrive and any refreshments. \nUseful Information \nSutton Bank National Park Centre Website \nTruffled Hog Menu \nAgenda \n11.00am – Meet in courtyard outside Sutton Bank Visitors Centre. (by Truffled Hog) \n11.10am – Check eveyone has arrived and start the walk. \n \nWhite Horse Walk 5.3km Walk that takes around 1.5 hours This trail takes in a good mix of natural and historic sights as you make your way through Hood Grange Wood\, past the gliding airfield\, and around the White Horse of Kilburn\, before returning to the start. \nThis turf-cut figure\, the most northerly in Britain\, was constructed in 1857 by the local school and every so often is improved with chalk clippings. \nThere are some rough and steep sections along this trail where care is needed with footing\, especially in wetter conditions and on the steps. Appropriate footwear is required. \nDue to the terrain and the gliding airfield\, dogs should be kept on lead at all times. \n12.30 – 12.45pm – Arrive back at visitor centre \nYou may wish to leave when we return to the visitor centre or if you have paid for over 2 hours parking we will be able to carry on chatting\, have a look around the vistor centre or grab some food or refreshments at the Truffled Hog. You may choose to also bring your own food and eat it on the picnic benches outside the visitor centre. \nParking is £3.80 for up to two hours but if you wish to stay longer and join us for food it is recommended that you pay £6.00 for over 2 hours. It may seem like a lot for parking but it helps to fund the car parks\, visitor centre and toilet facilities. \nParking is Cashless by using the machines on site or by using the PayByPhone app. (Cars: 805506) \n \nDisclaimer: Please note that you walk at your own risk. Further information on the accessibilty of the Sutton Bank National Park Centre can be found HERE.
URL:https://yorkshirebusinesslife.co.uk/event/walk-talk-networking-sutton-bank-thirsk
LOCATION:Sutton Bank National Park Centre\, Sutton Bank\, Thirsk\, England\, YO7 2EH\, United Kingdom
ATTACH;FMTTYPE=image/jpeg:https://yorkshirebusinesslife.co.uk/wp-content/uploads/2025/09/40b447f96915399d3d4d9abda9e4dedb.jpg
END:VEVENT
BEGIN:VEVENT
DTSTART;TZID=Europe/London:20251030T090000
DTEND;TZID=Europe/London:20251030T103000
DTSTAMP:20260419T230248
CREATED:20250913T233305Z
LAST-MODIFIED:20251008T212359Z
UID:57925-1761814800-1761820200@yorkshirebusinesslife.co.uk
SUMMARY:YNY Networking - Northallerton
DESCRIPTION:Join us at Network YNY – Northallerton for networking and connecting with like-minded individuals in your area!\n\n\nWelcome to Network YNY – Northallerton \nJoin us for networking\, learning\, and connecting with like-minded professionals\, the local authorities and business support providers. This free to attend in-person event will be held at the Evolution Business Centre\, every 4 weeks\, providing a great opportunity to meet new people and expand your professional circle. Don’t miss out on this chance to grow your network and gain valuable insights. See you there!
URL:https://yorkshirebusinesslife.co.uk/event/yny-networking-northallerton-4
LOCATION:Evolution Business Centre\, Evolution Business Centre\, #6\, Northallerton\, England\, DL6 2NQ\, United Kingdom
ATTACH;FMTTYPE=image/jpeg:https://yorkshirebusinesslife.co.uk/wp-content/uploads/2025/09/47f63ed5a03df639523fea0fde5b9eee-1.jpg
END:VEVENT
END:VCALENDAR