BEGIN:VCALENDAR
VERSION:2.0
PRODID:-//Yorkshire Business Life - ECPv6.15.14//NONSGML v1.0//EN
CALSCALE:GREGORIAN
METHOD:PUBLISH
X-WR-CALNAME:Yorkshire Business Life
X-ORIGINAL-URL:https://yorkshirebusinesslife.co.uk
X-WR-CALDESC:Events for Yorkshire Business Life
REFRESH-INTERVAL;VALUE=DURATION:PT1H
X-Robots-Tag:noindex
X-PUBLISHED-TTL:PT1H
BEGIN:VTIMEZONE
TZID:Europe/London
BEGIN:DAYLIGHT
TZOFFSETFROM:+0000
TZOFFSETTO:+0100
TZNAME:BST
DTSTART:20240331T010000
END:DAYLIGHT
BEGIN:STANDARD
TZOFFSETFROM:+0100
TZOFFSETTO:+0000
TZNAME:GMT
DTSTART:20241027T010000
END:STANDARD
BEGIN:DAYLIGHT
TZOFFSETFROM:+0000
TZOFFSETTO:+0100
TZNAME:BST
DTSTART:20250330T010000
END:DAYLIGHT
BEGIN:STANDARD
TZOFFSETFROM:+0100
TZOFFSETTO:+0000
TZNAME:GMT
DTSTART:20251026T010000
END:STANDARD
BEGIN:DAYLIGHT
TZOFFSETFROM:+0000
TZOFFSETTO:+0100
TZNAME:BST
DTSTART:20260329T010000
END:DAYLIGHT
BEGIN:STANDARD
TZOFFSETFROM:+0100
TZOFFSETTO:+0000
TZNAME:GMT
DTSTART:20261025T010000
END:STANDARD
END:VTIMEZONE
BEGIN:VEVENT
DTSTART;TZID=Europe/London:20251106T090000
DTEND;TZID=Europe/London:20251106T103000
DTSTAMP:20260419T212103
CREATED:20250913T233305Z
LAST-MODIFIED:20251008T212359Z
UID:57928-1762419600-1762425000@yorkshirebusinesslife.co.uk
SUMMARY:YNY Networking - Malton (Ware & Kay Solicitors Office)
DESCRIPTION:Meeting every 4 weeks\, connecting local businesses\, sole traders and the council to work in collaboration.\n\n\nWelcome to York and North Yorkshire Networking\, in Malton! 🌟 \nWe invite businesses of all sizes to join our relaxed and engaging networking events. Our mission is to foster connections between all local businesses\, local authorities and business support providers\, creating a supportive community where everyone can thrive. \n🤝 Why Join Us? Inclusive Networking: Whether you’re a startup\, SME\, or large enterprise\, our events are designed to be welcoming and beneficial for all. Community Support: Meet with like minded local businesses\, chat with local authorities and business support providers\, share resources\, insights\, and opportunities.Relaxed Atmosphere: Our events are casual and friendly\, making it easy to build genuine relationships. \nJoin us and be part of a vibrant network that supports growth\, innovation\, and community spirit in York and North Yorkshire.
URL:https://yorkshirebusinesslife.co.uk/event/yny-networking-malton-ware-kay-solicitors-office
LOCATION:Ware & Kay Solicitors\, 2 Market Street\, Malton\, England\, YO17 7AS\, United Kingdom
ATTACH;FMTTYPE=image/jpeg:https://yorkshirebusinesslife.co.uk/wp-content/uploads/2025/08/c0cd8da04e33e228de7291a24d20ee66-1.jpg
END:VEVENT
BEGIN:VEVENT
DTSTART;TZID=Europe/London:20251113T093000
DTEND;TZID=Europe/London:20251113T110000
DTSTAMP:20260419T212103
CREATED:20250825T201506Z
LAST-MODIFIED:20251111T194119Z
UID:57672-1763026200-1763031600@yorkshirebusinesslife.co.uk
SUMMARY:Face to Face Networking at The Milner Hotel\, York - Networking
DESCRIPTION:Networking with  business owners\, freelancers SME’s and sole traders in this fabulous Hotel a short walk from York train station.\n\nFace to face business networking event\, York. \nIn Business event in collaboration with The Milner\, York.\nCome along and make some new connections at our relaxed and informal networking event in the heart of York. \nNo 60 second pitches\, no passing referrals and no membership just turn up and connect with fellow business owners from your local area. If you are nervous about networking\, Ian and Tracey will be on hand to introduce you to everyone there. \nThe Milner in York\, just a short walk from the train station\, is the perfect base from which to discover the historic city of York. \nThere’s parking at the hotel and there’s plenty of parking around the city too. If you are traveling by car check out the car parks in York https://www.york.gov.uk/CarParks \nJust £12 includes tea and coffee. \nBook yourself a place\, you won’t want to miss this!
URL:https://yorkshirebusinesslife.co.uk/event/face-to-face-networking-at-the-milner-hotel-york-networking-3
LOCATION:The Milner York\, Station Road\, York\, England\, YO24 1AA\, United Kingdom
ATTACH;FMTTYPE=image/jpeg:https://yorkshirebusinesslife.co.uk/wp-content/uploads/2025/08/7f3d74ba069f7701233d60ce732b53ba.jpg
END:VEVENT
BEGIN:VEVENT
DTSTART;TZID=Europe/London:20251120T090000
DTEND;TZID=Europe/London:20251120T103000
DTSTAMP:20260419T212103
CREATED:20251001T193119Z
LAST-MODIFIED:20251120T000445Z
UID:58108-1763629200-1763634600@yorkshirebusinesslife.co.uk
SUMMARY:YNY Networking - Sherburn in Elmet
DESCRIPTION:Join us at YNY Networking –  Sherburn in Elmet for networking and connecting with like-minded individuals in your area!\n\n\nWelcome to YNY Networking – Sherburn in Elmet \nJoin us for networking\, learning\, and connecting with like-minded professionals. This free to attend in-person event will be held at The Motorist at Sherburn Aero Club in Sherburn in Elmet. Providing a great opportunity to meet new people\, expand your professional circle and hear about support oppotunities available across the YNY Region via our local authorities and business support providers. \n \nOn arrival drinks and breakfast can be purchased from the counter\, and then come and join us in the meeting room. \nDon’t miss out on this chance to grow your network and gain valuable insights. See you there! \n(This event was originally Elmet and Selby forum)
URL:https://yorkshirebusinesslife.co.uk/event/yny-networking-sherburn-in-elmet-5
LOCATION:The Motorist\, New Lennerton Lane\, Leeds\, England\, LS25 6JE\, United Kingdom
ATTACH;FMTTYPE=image/jpeg:https://yorkshirebusinesslife.co.uk/wp-content/uploads/2025/08/0b3b833b61123c33ea3395581ca5e9ea.jpg
END:VEVENT
BEGIN:VEVENT
DTSTART;TZID=Europe/London:20251120T090000
DTEND;TZID=Europe/London:20251120T103000
DTSTAMP:20260419T212104
CREATED:20251111T163030Z
LAST-MODIFIED:20251120T000445Z
UID:58256-1763629200-1763634600@yorkshirebusinesslife.co.uk
SUMMARY:YNY Networking - Thirsk (Brew & Bite Cafe)
DESCRIPTION:Welcome to our YNY  Business Networking event in Thirsk! Connecting local businesses\, sole traders and the council to work in collaboration\n\n\nWelcome to York and North Yorkshire Networking. This event in is collaboration with Brew + Bite Cafe in Thirsk 🌟We invite businesses of all sizes to join our relaxed and engaging networking events. Our mission is to foster connections between all local businesses along with the local council\, creating a supportive community where everyone can thrive.🤝 \nWhy Join Us? \nInclusive Networking: Whether you’re a startup\, SME\, or large enterprise\, our events are designed to be welcoming and beneficial for all.Community Support: Collaborate with local businesses and the council to share resources\, insights\, and opportunities.Relaxed Atmosphere: Our events are casual and friendly\, making it easy to build genuine relationships.Join us and be part of a vibrant network that supports growth\, innovation\, and community spirit in York and North Yorkshire.
URL:https://yorkshirebusinesslife.co.uk/event/yny-networking-thirsk-3
LOCATION:Brew & Bite Cafe\, 3 Market Place\, Thirsk\, England\, YO7 1HQ\, United Kingdom
ATTACH;FMTTYPE=image/jpeg:https://yorkshirebusinesslife.co.uk/wp-content/uploads/2025/08/f14a090859e845e705547bac4d54ee0d-1.jpg
END:VEVENT
BEGIN:VEVENT
DTSTART;TZID=Europe/London:20251120T093000
DTEND;TZID=Europe/London:20251120T110000
DTSTAMP:20260419T212104
CREATED:20250825T201508Z
LAST-MODIFIED:20251118T194220Z
UID:57674-1763631000-1763636400@yorkshirebusinesslife.co.uk
SUMMARY:Face to Face Networking at 2-Work Tileyard\, Wakefield - Networking
DESCRIPTION:Networking with  business owners\, freelancers SME’s and sole traders in this fabulous co-working space 8 minutes from Kirkgate station.\n\n\nFace to face business networking event\, Wakefield.\nJoin us for our next In Business event in collaboration with 2-Work Tileyard Wakefield.\nCome along and make some new connections at our relaxed and informal networking event on the outskirts of Wakefield. Stay the rest of the day to use this excellent space\, bring your laptop\, or just continue the conversation with fellow networkers. \nNo 60-second pitches\, no passing referrals or presentations\, pay-as-you-go or join our membership. Come along and connect with fellow business owners from your local area. \n*For an additional £5\, payable to the venue\, you can stay for the rest of the day to co-work in this fabulous office space. You can take advantage of Superfast Wifi\, enjoy unlimited tea and coffee\, with the opportunity to connect with lots of other freelancers\, SME’s\, sole traders and limited companies. \nIf you fancy a change of scenery\, grab your laptop\, don’t forget your business cards and come 2-work with us. \nIt’s 8 minutes from Westgate train station and there’s plenty parking around the town. If you are traveling by car check out the car parks in Wakefield. \nRefreshments will be served throughout the morning. \nBook yourself a place\, you won’t want to miss this!
URL:https://yorkshirebusinesslife.co.uk/event/face-to-face-networking-at-2-work-tileyard-wakefield-networking-3
LOCATION:2-Work Tileyard North\, Cutter Mill\, Tileyard North\, Wakefield\, England\, WF1 5FT\, United Kingdom
ATTACH;FMTTYPE=image/jpeg:https://yorkshirebusinesslife.co.uk/wp-content/uploads/2025/08/e7a4b670bd07ea6e46db64864fefe761.jpg
END:VEVENT
BEGIN:VEVENT
DTSTART;TZID=Europe/London:20251127T090000
DTEND;TZID=Europe/London:20251127T103000
DTSTAMP:20260419T212104
CREATED:20250913T233305Z
LAST-MODIFIED:20251127T003945Z
UID:57931-1764234000-1764239400@yorkshirebusinesslife.co.uk
SUMMARY:YNY Networking - Northallerton
DESCRIPTION:Join us at Network YNY – Northallerton for networking and connecting with like-minded individuals in your area!\n\n\nWelcome to Network YNY – Northallerton \nJoin us for networking\, learning\, and connecting with like-minded professionals. This free to attend in-person event will be held at the Evolution Business Centre\, every 4 weeks\, providing a great opportunity to meet new people and expand your professional circle. Don’t miss out on this chance to grow your network and gain valuable insights. See you there!
URL:https://yorkshirebusinesslife.co.uk/event/yny-networking-northallerton-6
LOCATION:Evolution Business Centre\, Evolution Business Centre\, #6\, Northallerton\, England\, DL6 2NQ\, United Kingdom
ATTACH;FMTTYPE=image/jpeg:https://yorkshirebusinesslife.co.uk/wp-content/uploads/2025/09/47f63ed5a03df639523fea0fde5b9eee-1.jpg
END:VEVENT
BEGIN:VEVENT
DTSTART;TZID=Europe/London:20251127T093000
DTEND;TZID=Europe/London:20251127T110000
DTSTAMP:20260419T212104
CREATED:20250825T201510Z
LAST-MODIFIED:20251125T195232Z
UID:57676-1764235800-1764241200@yorkshirebusinesslife.co.uk
SUMMARY:Face to Face Networking at North Bar\, Harrogate -Networking
DESCRIPTION:Networking with  business owners\, freelancers SME’s and sole traders in this cool bar in the heart of Harrogate\n\n\nNetworking event\, Harrogate with the opportunity to stay for the rest of the day and use the co-working facilities at North Bar\nIn Business event in collaboration with North Bar Harrogate.\nCalling all Harrogate businesses\, are you up for a spot of networking? We’ve found a great venue\, in the heart of this historic town. North Bar has a cool vibe\, and we know we will be made most welcome by the lovely staff. \nStart your day on a high\, by networking (9.30-11am) with like-minded enthusiastic business owners. Meet new people\, make new connections and widen your network. \n \nJoin us for no pressure networking\, turn up and mingle in a relaxed and informal environment. Ian and I will be on hand to introduce you so you won’t feel nervous\, we promise there will be no wallflowers at our event. \nYou’re welcome to stay for the rest of the day and co-work in this great location\, why not grab some lunch too? \nIt’s just a short walk from the bus and train station or with car parking at Victoria Car Park less than a fiver for 3 hours it’s an easy place to get to. \n \n*Please note this event is held upstairs and unfortunately is not suitable for people who struggle to climb stairs* \n \nBook NOW\, an event not to be missed!
URL:https://yorkshirebusinesslife.co.uk/event/face-to-face-networking-at-north-bar-harrogate-networking-4
LOCATION:North Bar\, Cheltenham Parade\, #2D\, Harrogate\, England\, HG1 1DA\, United Kingdom
ATTACH;FMTTYPE=image/jpeg:https://yorkshirebusinesslife.co.uk/wp-content/uploads/2025/08/6e0338101942399048228fe6f12fb678.jpg
END:VEVENT
BEGIN:VEVENT
DTSTART;TZID=Europe/London:20251128T173000
DTEND;TZID=Europe/London:20251128T193000
DTSTAMP:20260419T212104
CREATED:20251111T171615Z
LAST-MODIFIED:20251128T214616Z
UID:58272-1764351000-1764358200@yorkshirebusinesslife.co.uk
SUMMARY:An Evening at Wild & Westbrooke
DESCRIPTION:Kick off the festive period by joining YorWealth and Ebor Mortgages for an evening  at Wild And Westbrooke.\n\n\nKick off the festive period by joining Yorwealth and Ebor Mortgages for an evening of relaxed informal networking at Wild And Westbrooke on Stonegate in York. \nAll attending with receive a festive tipple and mince pie on arrival \n \nFriday 28th November\, 5:30-7:30pm \n \nManaging Director Laura Stirk will be on hand to share her stocking filler tips and will be offering 10% off all stock. Alex Edwards from York Wines will be taking a look at some seasonal Pink Port and Moscato.
URL:https://yorkshirebusinesslife.co.uk/event/an-evening-at-wild-westbrooke
LOCATION:Wild & Westbrooke\, 3 Stonegate\, York\, England\, YO1 8AN\, United Kingdom
ATTACH;FMTTYPE=image/jpeg:https://yorkshirebusinesslife.co.uk/wp-content/uploads/2025/11/48fa060a4a9c3b8ebd8e007aade90897.jpg
END:VEVENT
END:VCALENDAR